Workbook

Sheet Top Sheet
A1: FILM PRODUCTION BUDGET — TOP SHEET
A2: © Rajesh Rajilal — RFPI (Raj Film Productions Int). Template for use on RFPI productions and by permission.
B4: Production title
B5: Production company | C5: RFPI — Raj Film Productions Int
B6: Producer | C6: Rajesh Rajilal
B7: Director
B8: Format / length | C8: e.g. Feature / 95 min
B9: Shoot days | C9: 20
B10: Prep weeks | C10: 6
B11: Post weeks | C11: 12
B12: Currency | C12: GBP
B13: Budget version / date | C13: v1 — dd/mm/yyyy
A15: Acct | B15: Category | C15: Budget | D15: Actual | E15: Variance | F15: % of total
A16: ABOVE THE LINE
A17: 1000 | B17: Story, Rights & Development | C17: =SUMIFS(Detail!$H:$H,Detail!$A:$A,A17) -> 8200 | D17: =SUMIFS(Detail!$I:$I,Detail!$A:$A,A17) -> 0 | E17: =C17-D17 -> 8200 | F17: =IF($C$51=0,0,C17/$C$51) -> 0.029795185
A18: 1100 | B18: Producers | C18: =SUMIFS(Detail!$H:$H,Detail!$A:$A,A18) -> 15000 | D18: =SUMIFS(Detail!$I:$I,Detail!$A:$A,A18) -> 0 | E18: =C18-D18 -> 15000 | F18: =IF($C$51=0,0,C18/$C$51) -> 0.054503388
A19: 1200 | B19: Director | C19: =SUMIFS(Detail!$H:$H,Detail!$A:$A,A19) -> 15000 | D19: =SUMIFS(Detail!$I:$I,Detail!$A:$A,A19) -> 0 | E19: =C19-D19 -> 15000 | F19: =IF($C$51=0,0,C19/$C$51) -> 0.054503388
A20: 1300 | B20: Principal Cast | C20: =SUMIFS(Detail!$H:$H,Detail!$A:$A,A20) -> 20976 | D20: =SUMIFS(Detail!$I:$I,Detail!$A:$A,A20) -> 0 | E20: =C20-D20 -> 20976 | F20: =IF($C$51=0,0,C20/$C$51) -> 0.076217538
A21: BELOW THE LINE — PRODUCTION
A22: 2000 | B22: Production Staff | C22: =SUMIFS(Detail!$H:$H,Detail!$A:$A,A22) -> 35055 | D22: =SUMIFS(Detail!$I:$I,Detail!$A:$A,A22) -> 0 | E22: =C22-D22 -> 35055 | F22: =IF($C$51=0,0,C22/$C$51) -> 0.12737442
A23: 2100 | B23: Supporting Cast, Extras & Stunts | C23: =SUMIFS(Detail!$H:$H,Detail!$A:$A,A23) -> 7200 | D23: =SUMIFS(Detail!$I:$I,Detail!$A:$A,A23) -> 0 | E23: =C23-D23 -> 7200 | F23: =IF($C$51=0,0,C23/$C$51) -> 0.026161626
A24: 2200 | B24: Camera | C24: =SUMIFS(Detail!$H:$H,Detail!$A:$A,A24) -> 22540 | D24: =SUMIFS(Detail!$I:$I,Detail!$A:$A,A24) -> 0 | E24: =C24-D24 -> 22540 | F24: =IF($C$51=0,0,C24/$C$51) -> 0.081900424
A25: 2300 | B25: Lighting & Electrical | C25: =SUMIFS(Detail!$H:$H,Detail!$A:$A,A25) -> 11200 | D25: =SUMIFS(Detail!$I:$I,Detail!$A:$A,A25) -> 0 | E25: =C25-D25 -> 11200 | F25: =IF($C$51=0,0,C25/$C$51) -> 0.040695863
A26: 2400 | B26: Grip | C26: =SUMIFS(Detail!$H:$H,Detail!$A:$A,A26) -> 0 | D26: =SUMIFS(Detail!$I:$I,Detail!$A:$A,A26) -> 0 | E26: =C26-D26 -> 0 | F26: =IF($C$51=0,0,C26/$C$51) -> 0
A27: 2500 | B27: Sound | C27: =SUMIFS(Detail!$H:$H,Detail!$A:$A,A27) -> 9000 | D27: =SUMIFS(Detail!$I:$I,Detail!$A:$A,A27) -> 0 | E27: =C27-D27 -> 9000 | F27: =IF($C$51=0,0,C27/$C$51) -> 0.032702033
A28: 2600 | B28: Art Department & Set Construction | C28: =SUMIFS(Detail!$H:$H,Detail!$A:$A,A28) -> 10944 | D28: =SUMIFS(Detail!$I:$I,Detail!$A:$A,A28) -> 0 | E28: =C28-D28 -> 10944 | F28: =IF($C$51=0,0,C28/$C$51) -> 0.039765672
A29: 2700 | B29: Props, Wardrobe, Hair & Make-up | C29: =SUMIFS(Detail!$H:$H,Detail!$A:$A,A29) -> 0 | D29: =SUMIFS(Detail!$I:$I,Detail!$A:$A,A29) -> 0 | E29: =C29-D29 -> 0 | F29: =IF($C$51=0,0,C29/$C$51) -> 0
A30: 2800 | B30: Locations & Permits | C30: =SUMIFS(Detail!$H:$H,Detail!$A:$A,A30) -> 13500 | D30: =SUMIFS(Detail!$I:$I,Detail!$A:$A,A30) -> 0 | E30: =C30-D30 -> 13500 | F30: =IF($C$51=0,0,C30/$C$51) -> 0.049053049
A31: 2900 | B31: Transport, Travel & Accommodation | C31: =SUMIFS(Detail!$H:$H,Detail!$A:$A,A31) -> 4800 | D31: =SUMIFS(Detail!$I:$I,Detail!$A:$A,A31) -> 0 | E31: =C31-D31 -> 4800 | F31: =IF($C$51=0,0,C31/$C$51) -> 0.017441084
A32: 3000 | B32: Catering & Craft Services | C32: =SUMIFS(Detail!$H:$H,Detail!$A:$A,A32) -> 10800 | D32: =SUMIFS(Detail!$I:$I,Detail!$A:$A,A32) -> 0 | E32: =C32-D32 -> 10800 | F32: =IF($C$51=0,0,C32/$C$51) -> 0.039242439
A33: 3100 | B33: Production Equipment Hire | C33: =SUMIFS(Detail!$H:$H,Detail!$A:$A,A33) -> 0 | D33: =SUMIFS(Detail!$I:$I,Detail!$A:$A,A33) -> 0 | E33: =C33-D33 -> 0 | F33: =IF($C$51=0,0,C33/$C$51) -> 0
A34: 3200 | B34: Special Effects & Stunts | C34: =SUMIFS(Detail!$H:$H,Detail!$A:$A,A34) -> 0 | D34: =SUMIFS(Detail!$I:$I,Detail!$A:$A,A34) -> 0 | E34: =C34-D34 -> 0 | F34: =IF($C$51=0,0,C34/$C$51) -> 0
A35: BELOW THE LINE — POST-PRODUCTION
A36: 4000 | B36: Editing | C36: =SUMIFS(Detail!$H:$H,Detail!$A:$A,A36) -> 17100 | D36: =SUMIFS(Detail!$I:$I,Detail!$A:$A,A36) -> 0 | E36: =C36-D36 -> 17100 | F36: =IF($C$51=0,0,C36/$C$51) -> 0.062133862
A37: 4100 | B37: Visual Effects & Titles | C37: =SUMIFS(Detail!$H:$H,Detail!$A:$A,A37) -> 0 | D37: =SUMIFS(Detail!$I:$I,Detail!$A:$A,A37) -> 0 | E37: =C37-D37 -> 0 | F37: =IF($C$51=0,0,C37/$C$51) -> 0
A38: 4200 | B38: Music (composer, licensing, recording) | C38: =SUMIFS(Detail!$H:$H,Detail!$A:$A,A38) -> 8000 | D38: =SUMIFS(Detail!$I:$I,Detail!$A:$A,A38) -> 0 | E38: =C38-D38 -> 8000 | F38: =IF($C$51=0,0,C38/$C$51) -> 0.029068474
A39: 4300 | B39: Sound Post & Mix | C39: =SUMIFS(Detail!$H:$H,Detail!$A:$A,A39) -> 9000 | D39: =SUMIFS(Detail!$I:$I,Detail!$A:$A,A39) -> 0 | E39: =C39-D39 -> 9000 | F39: =IF($C$51=0,0,C39/$C$51) -> 0.032702033
A40: 4400 | B40: Colour, Conform & Deliverables | C40: =SUMIFS(Detail!$H:$H,Detail!$A:$A,A40) -> 7000 | D40: =SUMIFS(Detail!$I:$I,Detail!$A:$A,A40) -> 0 | E40: =C40-D40 -> 7000 | F40: =IF($C$51=0,0,C40/$C$51) -> 0.025434914
A41: OTHER
A42: 5000 | B42: Insurance | C42: =SUMIFS(Detail!$H:$H,Detail!$A:$A,A42) -> 4500 | D42: =SUMIFS(Detail!$I:$I,Detail!$A:$A,A42) -> 0 | E42: =C42-D42 -> 4500 | F42: =IF($C$51=0,0,C42/$C$51) -> 0.016351016
...

Sheet Detail
A1: Acct | B1: Category | C1: Line item / description | D1: Units | E1: Qty | F1: Rate (£) | G1: Fringe % | H1: Budget (£) | I1: Actual (£) | J1: Variance (£) | K1: Notes
A2: 1000 | B2: Story, Rights & Development | C2: Screenplay option / purchase | D2: Allow | E2: 1 | F2: 5000 | G2: 0 | H2: =E2*F2*(1+G2) -> 5000 | I2: 0 | J2: =H2-I2 -> 5000
A3: 1000 | B3: Story, Rights & Development | C3: Script editor | D3: Weeks | E3: 4 | F3: 800 | G3: 0 | H3: =E3*F3*(1+G3) -> 3200 | I3: 0 | J3: =H3-I3 -> 3200
A4: 1100 | B4: Producers | C4: Producer fee | D4: Flat | E4: 1 | F4: 15000 | G4: 0 | H4: =E4*F4*(1+G4) -> 15000 | I4: 0 | J4: =H4-I4 -> 15000
A5: 1200 | B5: Director | C5: Director fee | D5: Flat | E5: 1 | F5: 15000 | G5: 0 | H5: =E5*F5*(1+G5) -> 15000 | I5: 0 | J5: =H5-I5 -> 15000
A6: 1300 | B6: Principal Cast | C6: Lead actor (Equity/PACT rate) | D6: Days | E6: 20 | F6: 650 | G6: 0.14 | H6: =E6*F6*(1+G6) -> 14820 | I6: 0 | J6: =H6-I6 -> 14820
A7: 1300 | B7: Principal Cast | C7: Supporting lead | D7: Days | E7: 12 | F7: 450 | G7: 0.14 | H7: =E7*F7*(1+G7) -> 6156 | I7: 0 | J7: =H7-I7 -> 6156
A8: 2000 | B8: Production Staff | C8: Line producer | D8: Weeks | E8: 10 | F8: 1400 | G8: 0.14 | H8: =E8*F8*(1+G8) -> 15960 | I8: 0 | J8: =H8-I8 -> 15960
A9: 2000 | B9: Production Staff | C9: 1st assistant director | D9: Weeks | E9: 7 | F9: 1300 | G9: 0.14 | H9: =E9*F9*(1+G9) -> 10374 | I9: 0 | J9: =H9-I9 -> 10374
A10: 2000 | B10: Production Staff | C10: Production coordinator | D10: Weeks | E10: 9 | F10: 850 | G10: 0.14 | H10: =E10*F10*(1+G10) -> 8721 | I10: 0 | J10: =H10-I10 -> 8721
A11: 2100 | B11: Supporting Cast, Extras & Stunts | C11: Background artists | D11: Man-days | E11: 60 | F11: 120 | G11: 0 | H11: =E11*F11*(1+G11) -> 7200 | I11: 0 | J11: =H11-I11 -> 7200
A12: 2200 | B12: Camera | C12: Director of photography | D12: Weeks | E12: 5 | F12: 2200 | G12: 0.14 | H12: =E12*F12*(1+G12) -> 12540 | I12: 0 | J12: =H12-I12 -> 12540
A13: 2200 | B13: Camera | C13: Camera package hire (RFPI Gear Hire) | D13: Weeks | E13: 4 | F13: 2500 | G13: 0 | H13: =E13*F13*(1+G13) -> 10000 | I13: 0 | J13: =H13-I13 -> 10000
... A27: 5200 | B27: Marketing, Festivals & Publicity | C27: Festival fees, poster, trailer, EPK | D27: Allow | E27: 1 | F27: 3500 | G27: 0 | H27: =E27*F27*(1+G27) -> 3500 | I27: 0 | J27: =H27-I27 -> 3500
H28: =E28*F28*(1+G28) -> 0 | J28: =H28-I28 -> 0
H29: =E29*F29*(1+G29) -> 0 | J29: =H29-I29 -> 0
H30: =E30*F30*(1+G30) -> 0 | J30: =H30-I30 -> 0
H31: =E31*F31*(1+G31) -> 0 | J31: =H31-I31 -> 0
H32: =E32*F32*(1+G32) -> 0 | J32: =H32-I32 -> 0
H33: =E33*F33*(1+G33) -> 0 | J33: =H33-I33 -> 0
H34: =E34*F34*(1+G34) -> 0 | J34: =H34-I34 -> 0
H35: =E35*F35*(1+G35) -> 0 | J35: =H35-I35 -> 0
H36: =E36*F36*(1+G36) -> 0 | J36: =H36-I36 -> 0
H37: =E37*F37*(1+G37) -> 0 | J37: =H37-I37 -> 0
H38: =E38*F38*(1+G38) -> 0 | J38: =H38-I38 -> 0
H39: =E39*F39*(1+G39) -> 0 | J39: =H39-I39 -> 0
... H87: =E87*F87*(1+G87) -> 0 | J87: =H87-I87 -> 0
C89: TOTAL | H89: =SUM(H2:H88) -> 239315 | I89: =SUM(I2:I88) -> 0 | J89: =SUM(J2:J88) -> 239315
C91: Example rows are illustrative UK indie-feature figures supplied as placeholders — replace with your own quotes. Acct column has a drop-down of account codes. © Rajesh Rajilal

Sheet Cash Flow
A1: CASH-FLOW SCHEDULE (by month)
A2: Enter the % of each phase spent per month (blue). Amounts pull from the Top Sheet.
A4: Phase | B4: Total (£) | C4: M1 | D4: M2 | E4: M3 | F4: M4 | G4: M5 | H4: M6 | I4: M7 | J4: M8 | K4: M9 | L4: M10 | M4: M11 | N4: M12 | O4: Check
A5: Development / Pre-production | B5: ='Top Sheet'!C17+'Top Sheet'!C18+'Top Sheet'!C19 -> 38200 | C5: 0.2 | D5: 0.3 | E5: 0.5 | F5: 0 | G5: 0 | H5: 0 | I5: 0 | J5: 0 | K5: 0 | L5: 0 | M5: 0 | N5: 0 | O5: =SUM(C5:N5) -> 1
A6: Production | B6: =SUM('Top Sheet'!C20:C34) -> 146015 | C6: 0 | D6: 0 | E6: 0.1 | F6: 0.6 | G6: 0.3 | H6: 0 | I6: 0 | J6: 0 | K6: 0 | L6: 0 | M6: 0 | N6: 0 | O6: =SUM(C6:N6) -> 1
A7: Post-production | B7: =SUM('Top Sheet'!C36:C40) -> 41100 | C7: 0 | D7: 0 | E7: 0 | F7: 0 | G7: 0.2 | H7: 0.3 | I7: 0.3 | J7: 0.2 | K7: 0 | L7: 0 | M7: 0 | N7: 0 | O7: =SUM(C7:N7) -> 1
A8: Other / overheads | B8: =SUM('Top Sheet'!C42:C45)+'Top Sheet'!C48+'Top Sheet'!C50 -> 49897.25 | C8: 0.1 | D8: 0.1 | E8: 0.1 | F8: 0.2 | G8: 0.1 | H8: 0.1 | I8: 0.1 | J8: 0.1 | K8: 0.05 | L8: 0.05 | M8: 0 | N8: 0 | O8: =SUM(C8:N8) -> 1
A9: Monthly spend (£) | B9: =SUM(C9:N9) -> 275212.25 | C9: =SUMPRODUCT($B$5:$B$8,C5:C8) -> 12629.725 | D9: =SUMPRODUCT($B$5:$B$8,D5:D8) -> 16449.725 | E9: =SUMPRODUCT($B$5:$B$8,E5:E8) -> 38691.225 | F9: =SUMPRODUCT($B$5:$B$8,F5:F8) -> 97588.45 | G9: =SUMPRODUCT($B$5:$B$8,G5:G8) -> 57014.225 | H9: =SUMPRODUCT($B$5:$B$8,H5:H8) -> 17319.725 | I9: =SUMPRODUCT($B$5:$B$8,I5:I8) -> 17319.725 | J9: =SUMPRODUCT($B$5:$B$8,J5:J8) -> 13209.725 | ... N9: =SUMPRODUCT($B$5:$B$8,N5:N8) -> 0
A10: Cumulative (£) | C10: =C9 -> 12629.725 | D10: =C10+D9 -> 29079.45 | E10: =D10+E9 -> 67770.675 | F10: =E10+F9 -> 165359.12 | G10: =F10+G9 -> 222373.35 | H10: =G10+H9 -> 239693.08 | I10: =H10+I9 -> 257012.8 | J10: =I10+J9 -> 270222.53 | K10: =J10+K9 -> 272717.39 | ... N10: =M10+N9 -> 275212.25
A12: Check column should read 100% for each phase. © Rajesh Rajilal
